BEGIN:VCALENDAR
VERSION:2.0
PRODID:-//Emmanuel Barrie - ECPv6.15.20//NONSGML v1.0//EN
CALSCALE:GREGORIAN
METHOD:PUBLISH
X-WR-CALNAME:Emmanuel Barrie
X-ORIGINAL-URL:https://emmanuelbarrie.org
X-WR-CALDESC:Events for Emmanuel Barrie
REFRESH-INTERVAL;VALUE=DURATION:PT1H
X-Robots-Tag:noindex
X-PUBLISHED-TTL:PT1H
BEGIN:VTIMEZONE
TZID:America/Toronto
BEGIN:DAYLIGHT
TZOFFSETFROM:-0500
TZOFFSETTO:-0400
TZNAME:EDT
DTSTART:20250309T070000
END:DAYLIGHT
BEGIN:STANDARD
TZOFFSETFROM:-0400
TZOFFSETTO:-0500
TZNAME:EST
DTSTART:20251102T060000
END:STANDARD
BEGIN:DAYLIGHT
TZOFFSETFROM:-0500
TZOFFSETTO:-0400
TZNAME:EDT
DTSTART:20260308T070000
END:DAYLIGHT
BEGIN:STANDARD
TZOFFSETFROM:-0400
TZOFFSETTO:-0500
TZNAME:EST
DTSTART:20261101T060000
END:STANDARD
BEGIN:DAYLIGHT
TZOFFSETFROM:-0500
TZOFFSETTO:-0400
TZNAME:EDT
DTSTART:20270314T070000
END:DAYLIGHT
BEGIN:STANDARD
TZOFFSETFROM:-0400
TZOFFSETTO:-0500
TZNAME:EST
DTSTART:20271107T060000
END:STANDARD
END:VTIMEZONE
BEGIN:VEVENT
DTSTART;TZID=America/Toronto:20260419T110000
DTEND;TZID=America/Toronto:20260419T123000
DTSTAMP:20260419T104755
CREATED:20250924T183717Z
LAST-MODIFIED:20250924T183717Z
UID:10004065-1776596400-1776601800@emmanuelbarrie.org
SUMMARY:Jr. High Worship Service
DESCRIPTION:Jr. High students meet during the 11am service (September through May) for their own worship service in the Youth Room (near the Chapel). You can expect a Bible-based curriculum and age-specific teaching by Pastor Dave and our youth interns. Jr. High students are encouraged to join the main worship service on the 1st Sunday of each month.
URL:https://emmanuelbarrie.org/event/jr-high-worship-service/2026-04-19/
CATEGORIES:Jr High
ATTACH;FMTTYPE=image/png:https://emmanuelbarrie.org/wp-content/uploads/2025/09/Jr.-High-Youth-Service-11am.png
END:VEVENT
BEGIN:VEVENT
DTSTART;TZID=America/Toronto:20260526T184500
DTEND;TZID=America/Toronto:20260526T210000
DTSTAMP:20260419T104755
CREATED:20260312T185110Z
LAST-MODIFIED:20260312T185110Z
UID:10004431-1779821100-1779829200@emmanuelbarrie.org
SUMMARY:Last Youth Night of the Year! (Jr. High 6:45pm & Sr. High 7:15pm)
DESCRIPTION:Our final youth night of the 2025-2026 school year will take place on Tuesday\, May 26\, 2026. \nWatch for more details on Collide Youth Events happening throughout July and August.
URL:https://emmanuelbarrie.org/event/last-youth-night-of-the-year-jr-high-645pm-sr-high-715pm/
CATEGORIES:Jr High,Sr High
ATTACH;FMTTYPE=image/png:https://emmanuelbarrie.org/wp-content/uploads/2026/03/Last_Youth_Night_2026__16_x_9_in_.png
END:VEVENT
END:VCALENDAR